BEGIN:VCALENDAR
VERSION:2.0
CALSCALE:GREGORIAN
METHOD:PUBLISH
PRODID://EWM3//162987
BEGIN:VEVENT
DTSTAMP:20260421T090250
VTIMEZONE:America/New_York
DTSTART:20231222T000000Z
DTEND:20231222T020000Z
UID:162987
SUMMARY:EWMD Brescia | La CittÃ  delle donne - Winter dinner
LOCATION:
DESCRIPTION:EWMD Brescia | La CittÃ  delle donne - Winter dinner\n\n12/21/23 07:00 PM EST\n - 12/21/23 09:00 PM EST\Description:\nTorna l’appuntamento annuale “La Città delle donne”, il format che ospita le nostre vincitrici She Made A Difference delle precedenti edizioni con le quali discuteremo su vari temi di attualità. \nIl focus della serata sarà "Come si vive in un mondo V.U.C.A. - Volatile, Uncertain, Complex and Ambiguous”, ne parleremo con:\nAnita Pasotti, professoressa Associata in Geometria presso l'Università degli Studi di Brescia, premiata She Made 2022;\nAlberta Marniga, imprenditrice e Presidente Euroacciai, premiata She Made 2015;\nMonica Conti, regista, autrice ed attrice, premiata She Made 2019.\n\nModera la discussione Daniela Bandera, past president EWMD Italia.\n \n\nSegue la nostra Winter Dinner!\n\nL’evento, che si terrà il 21 dicembre presso il centro Paolo VI, sarà l’occasione per fare rete e scambiarci i più calorosi auguri natalizi!\n\nQui il link per l'iscrizione: https://www.eventbrite.it/e/763850526487?aff=oddtdtcreator\n\nVi aspettiamo! È possibile riservare un posto fino al 19/12 alle 14.00.\n\nVi chiediamo gentilmente di segnalarci eventuali intolleranze e/o allergie scrivendo alla mail brescia@ewmd.org inserendo come oggetto "segnalazione winter dinner 21/12". Per motivi organizzativi il costo del biglietto sarà rimborsabile fino al 18/12 compreso. Eventuali richieste di rimborso pervenute oltre tale data non saranno prese in considerazione.\n
X-ALT-DESC;FMTTYPE=text/html:EWMD Brescia | La CittÃ  delle donne - Winter dinner<br /><br />12/21/23 07:00 PM EST - 12/21/23 09:00 PM EST<br />Description:<br /><p>Torna l&rsquo;appuntamento annuale &ldquo;La Citt&agrave; delle donne&rdquo;, il format che ospita le nostre vincitrici She Made A Difference delle precedenti edizioni con le quali discuteremo su vari temi di attualit&agrave;.&nbsp;<br />
Il focus della serata sar&agrave; &quot;Come si vive in un mondo V.U.C.A. - Volatile, Uncertain, Complex and Ambiguous&rdquo;,&nbsp;ne parleremo con:<br />
Anita Pasotti, professoressa Associata in Geometria presso l'Universit&agrave; degli Studi di Brescia, premiata She Made 2022;<br />
Alberta Marniga, imprenditrice e Presidente Euroacciai, premiata She Made 2015;<br />
Monica Conti, regista, autrice ed attrice, premiata She Made 2019.<br />
<br />
Modera la discussione Daniela Bandera, past president EWMD Italia.<br />
&nbsp;</p>

<p>Segue la nostra Winter Dinner!<br />
<br />
L&rsquo;evento, che si terr&agrave; il 21 dicembre presso&nbsp;il&nbsp;centro Paolo VI, sar&agrave; l&rsquo;occasione per fare rete e scambiarci i pi&ugrave; calorosi auguri natalizi!<br />
<br />
Qui il link per l'iscrizione: <a href="https://www.eventbrite.it/e/763850526487?aff=oddtdtcreator">https://www.eventbrite.it/e/763850526487?aff=oddtdtcreator</a><br />
<br />
Vi aspettiamo!&nbsp;<strong>&Egrave;</strong><strong>&nbsp;possibile riservare un posto fino al 19/12 alle 14.00</strong>.<br />
<br />
<strong><strong>Vi chiediamo gentilmente di segnalarci eventuali intolleranze e/o allergie scrivendo alla mail brescia@ewmd.org inserendo come oggetto &quot;segnalazione winter dinner 21/12&quot;.&nbsp;Per motivi organizzativi il costo del biglietto sar&agrave; rimborsabile fino al 18/12 compreso. Eventuali richieste di rimborso pervenute oltre tale data non saranno prese in considerazione.</strong></strong></p>

PRIORITY:3
TRANSP:TRANSPARENT
BEGIN:VALARM
TRIGGER:-PT5M
ACTION:DISPLAY
DESCRIPTION:Reminder
END:VALARM
END:VEVENT
END:VCALENDAR
